BEGIN:VCALENDAR
VERSION:2.0
PRODID:-//Dr. Rana Mondal - ECPv6.10.0//NONSGML v1.0//EN
CALSCALE:GREGORIAN
METHOD:PUBLISH
X-ORIGINAL-URL:https://drranamondalivf.com
X-WR-CALDESC:Events for Dr. Rana Mondal
REFRESH-INTERVAL;VALUE=DURATION:PT1H
X-Robots-Tag:noindex
X-PUBLISHED-TTL:PT1H
BEGIN:VTIMEZONE
TZID:UTC
BEGIN:STANDARD
TZOFFSETFROM:+0000
TZOFFSETTO:+0000
TZNAME:UTC
DTSTART:20160101T000000
END:STANDARD
END:VTIMEZONE
BEGIN:VEVENT
DTSTART;TZID=UTC:20160717T100000
DTEND;TZID=UTC:20220717T113000
DTSTAMP:20260423T022759
CREATED:20150716T041936Z
LAST-MODIFIED:20200331T043444Z
UID:4816-1468749600-1658057400@drranamondalivf.com
SUMMARY:Eat Healthy During Pregnancy
DESCRIPTION:Nulla sagittis arcu et risus eleifend eleifend. Integer id maximus nibh. Sed non enim fringilla\, mollis ex non\, vestibulum neque. Sed non lacus nisl. Pellentesque lobortis risus in convallis tempor. Cras ultricies lectus sit amet est convallis rutrum. Praesent non ultrices nibh\, a interdum sem. Nulla dui ligula\, malesuada sed ante a\, scelerisque tristique nibh. Vivamus nec dapibus dui. Maecenas non cursus metus. \nSed non enim fringilla\, mollis ex non\, vestibulum neque. Sed non lacus nisl. Pellentesque lobortis risus in convallis tempor. Cras ultricies lectus sit amet est convallis rutrum. Praesent non ultrices nibh\, a interdum sem. Nulla dui ligula\, malesuada sed ante a\, scelerisque tristique nibh. Vivamus nec dapibus dui. Maecenas non cursus metus.
URL:https://drranamondalivf.com/event/eat-healthy-during-pregnancy/
LOCATION:Orlando\, Florida\, Near Varadharaja mills\, Coimbatore\, TN\, 6536440\, India
CATEGORIES:Service
ATTACH;FMTTYPE=image/jpeg:https://drranamondalivf.com/wp-content/uploads/2016/05/e5.jpg
ORGANIZER;CN="William Dafoe":MAILTO:http://iamdesigning.com
END:VEVENT
END:VCALENDAR